BEGIN:VCALENDAR
VERSION:2.0
PRODID:-//wp-events-plugin.com//7.2.3.1//EN
BEGIN:VEVENT
UID:4@polychorcapital.com
DTSTART;TZID=Europe/Sofia:20230119T090000
DTEND;TZID=Europe/Sofia:20230120T163000
DTSTAMP:20221102T175849Z
URL:https://polychorcapital.com/events/prince2-practitioner-exam-preparati
 on-exam-voucher-english/
SUMMARY:PRINCE2® Practitioner Exam Preparation + Exam Voucher (English)
DESCRIPTION:The hybrid PRINCE2® Practitioner (6th Edition) course and exam
  are aimed at assessing whether the candidate would be able to apply PRINC
 E2® to the implementation and management of a non-complex project in a PR
 INCE2® supportive organizational environment. 
ATTACH;FMTTYPE=image/jpeg:https://polychorcapital.com/wp-content/uploads/2
 019/05/prince2-ato-logo-e1666637510551.png
CATEGORIES:PRINCE2 Hybrid Training
END:VEVENT
BEGIN:VTIMEZONE
TZID:Europe/Sofia
X-LIC-LOCATION:Europe/Sofia
BEGIN:STANDARD
DTSTART:20221030T030000
TZOFFSETFROM:+0300
TZOFFSETTO:+0200
TZNAME:EET
END:STANDARD
END:VTIMEZONE
END:VCALENDAR